BEGIN:VCALENDAR
PRODID:-//eluceo/ical//2.0/EN
VERSION:2.0
CALSCALE:GREGORIAN
BEGIN:VEVENT
UID:ceee8cb06ae7cbcf6996b764a75211b4
DTSTAMP:20260419T233922Z
SUMMARY:William Forsythe II
DESCRIPTION:This evening brings together two key works by the choreographer
  William Forsythe\, which conceive of...
DTSTART:20270625T193000
DTEND:20270625T211500
LOCATION:Bismarckstraße 35\, 10627 Berlin
BEGIN:VALARM
ACTION:DISPLAY
DESCRIPTION:William Forsythe II
TRIGGER;VALUE=DATE-TIME:20270625T193000Z
END:VALARM
END:VEVENT
END:VCALENDAR