BEGIN:VCALENDAR
PRODID:-//eluceo/ical//2.0/EN
VERSION:2.0
CALSCALE:GREGORIAN
BEGIN:VEVENT
UID:1d41f41e1be01fe58fc777f0615b28da
DTSTAMP:20260419T234411Z
SUMMARY:William Forsythe II
DESCRIPTION:This evening brings together two key works by the choreographer
  William Forsythe\, which conceive of...
DTSTART:20270411T180000
DTEND:20270411T194500
LOCATION:Bismarckstraße 35\, 10627 Berlin
BEGIN:VALARM
ACTION:DISPLAY
DESCRIPTION:William Forsythe II
TRIGGER;VALUE=DATE-TIME:20270411T180000Z
END:VALARM
END:VEVENT
END:VCALENDAR