BEGIN:VCALENDAR
PRODID:-//eluceo/ical//2.0/EN
VERSION:2.0
CALSCALE:GREGORIAN
BEGIN:VEVENT
UID:a6b8df8d31b73273264197234733ef0f
DTSTAMP:20260425T223101Z
SUMMARY:Premiere Talk: William Forsythe II
DESCRIPTION:On a Sunday morning before the big event of the premiere\, Arti
 stic Director Christian Spuck and...
DTSTART:20270307T110000
DTEND:20270307T124500
LOCATION:Bismarckstraße 35\, 10627 Berlin
BEGIN:VALARM
ACTION:DISPLAY
DESCRIPTION:Premiere Talk: William Forsythe II
TRIGGER;VALUE=DATE-TIME:20270307T110000Z
END:VALARM
END:VEVENT
END:VCALENDAR