BEGIN:VCALENDAR
PRODID:-//eluceo/ical//2.0/EN
VERSION:2.0
CALSCALE:GREGORIAN
BEGIN:VEVENT
UID:80a27f9ef50d44cf699a019eeaba2e01
DTSTAMP:20260419T230043Z
SUMMARY:The Nutcracker
DESCRIPTION:Christian Spuck’s new production places E.T.A. Hoffmann’s l
 iterary original at its center\,...
DTSTART:20270124T150000
DTEND:20270124T171500
LOCATION:Bismarckstraße 35\, 10627 Berlin
BEGIN:VALARM
ACTION:DISPLAY
DESCRIPTION:The Nutcracker
TRIGGER;VALUE=DATE-TIME:20270124T150000Z
END:VALARM
END:VEVENT
END:VCALENDAR