BEGIN:VCALENDAR
PRODID:-//eluceo/ical//2.0/EN
VERSION:2.0
CALSCALE:GREGORIAN
BEGIN:VEVENT
UID:0ef552a6b1b88f5ed95e20073b7a6053
DTSTAMP:20260419T225859Z
SUMMARY:The Nutcracker
DESCRIPTION:Christian Spuck’s new production places E.T.A. Hoffmann’s l
 iterary original at its center\,...
DTSTART:20270116T193000
DTEND:20270116T214500
LOCATION:Bismarckstraße 35\, 10627 Berlin
BEGIN:VALARM
ACTION:DISPLAY
DESCRIPTION:The Nutcracker
TRIGGER;VALUE=DATE-TIME:20270116T193000Z
END:VALARM
END:VEVENT
END:VCALENDAR