BEGIN:VCALENDAR
PRODID:-//eluceo/ical//2.0/EN
VERSION:2.0
CALSCALE:GREGORIAN
BEGIN:VEVENT
UID:58e0122e6e63d57680629e31c56be57e
DTSTAMP:20260419T225353Z
SUMMARY:The Nutcracker
DESCRIPTION:Christian Spuck’s new production places E.T.A. Hoffmann’s l
 iterary original at its center\,...
DTSTART:20261225T150000
DTEND:20261225T171500
LOCATION:Bismarckstraße 35\, 10627 Berlin
BEGIN:VALARM
ACTION:DISPLAY
DESCRIPTION:The Nutcracker
TRIGGER;VALUE=DATE-TIME:20261225T150000Z
END:VALARM
END:VEVENT
END:VCALENDAR