BEGIN:VCALENDAR
PRODID:-//eluceo/ical//2.0/EN
VERSION:2.0
CALSCALE:GREGORIAN
BEGIN:VEVENT
UID:54e7cfb114c64d6dc9f456d2f66e8fbe
DTSTAMP:20260419T225408Z
SUMMARY:The Nutcracker
DESCRIPTION:Christian Spuck’s new production places E.T.A. Hoffmann’s l
 iterary original at its center\,...
DTSTART:20261214T193000
DTEND:20261214T214500
LOCATION:Bismarckstraße 35\, 10627 Berlin
BEGIN:VALARM
ACTION:DISPLAY
DESCRIPTION:The Nutcracker
TRIGGER;VALUE=DATE-TIME:20261214T193000Z
END:VALARM
END:VEVENT
END:VCALENDAR