BEGIN:VCALENDAR
PRODID:-//eluceo/ical//2.0/EN
VERSION:2.0
CALSCALE:GREGORIAN
BEGIN:VEVENT
UID:abcdfeb3cad11bbc916c5bacf025a69d
DTSTAMP:20260419T225732Z
SUMMARY:The Nutcracker
DESCRIPTION:Christian Spuck’s new production places E.T.A. Hoffmann’s l
 iterary original at its center\,...
DTSTART:20261129T193000
DTEND:20261129T214500
LOCATION:Bismarckstraße 35\, 10627 Berlin
BEGIN:VALARM
ACTION:DISPLAY
DESCRIPTION:The Nutcracker
TRIGGER;VALUE=DATE-TIME:20261129T193000Z
END:VALARM
END:VEVENT
END:VCALENDAR