BEGIN:VCALENDAR
PRODID:-//eluceo/ical//2.0/EN
VERSION:2.0
CALSCALE:GREGORIAN
BEGIN:VEVENT
UID:db69a0844a035775cbc8fcda40ecfb61
DTSTAMP:20260425T222601Z
SUMMARY:Premiere Talk: The Nutcracker
DESCRIPTION:On a Sunday morning before the big event of the premiere\, Arti
 stic Director Christian Spuck and...
DTSTART:20261108T110000
DTEND:20261108T110000
LOCATION:Bismarckstraße 35\, 10627 Berlin
BEGIN:VALARM
ACTION:DISPLAY
DESCRIPTION:Premiere Talk: The Nutcracker
TRIGGER;VALUE=DATE-TIME:20261108T110000Z
END:VALARM
END:VEVENT
END:VCALENDAR