BEGIN:VCALENDAR
PRODID:-//eluceo/ical//2.0/EN
VERSION:2.0
CALSCALE:GREGORIAN
BEGIN:VEVENT
UID:8bcc8da142579203a8c5785eb0a2ac29
DTSTAMP:20260425T223236Z
SUMMARY:Forum
DESCRIPTION:Discover the world of dance from a different perspective! In th
 e Forum discussion series\, Dramaturge...
DTSTART:20270407T190000
DTEND:20270407T190000
BEGIN:VALARM
ACTION:DISPLAY
DESCRIPTION:Forum
TRIGGER;VALUE=DATE-TIME:20270407T190000Z
END:VALARM
END:VEVENT
END:VCALENDAR