BEGIN:VCALENDAR
PRODID:-//eluceo/ical//2.0/EN
VERSION:2.0
CALSCALE:GREGORIAN
BEGIN:VEVENT
UID:a57d4de68085676456a186e43ab07754
DTSTAMP:20260425T223940Z
SUMMARY:Forum
DESCRIPTION:Discover the world of dance from a different perspective! In th
 e Forum discussion series\, Dramaturge...
DTSTART:20260916T190000
DTEND:20260916T190000
BEGIN:VALARM
ACTION:DISPLAY
DESCRIPTION:Forum
TRIGGER;VALUE=DATE-TIME:20260916T190000Z
END:VALARM
END:VEVENT
END:VCALENDAR