BEGIN:VCALENDAR
PRODID:-//eluceo/ical//2.0/EN
VERSION:2.0
CALSCALE:GREGORIAN
BEGIN:VEVENT
UID:b5c70589c0ef407a119bee3c1399b9f3
DTSTAMP:20260425T222805Z
SUMMARY:Staatliche Ballett- und Artistikschule
DESCRIPTION:It has been a tradition for decades that the students of the St
 aatliche Ballett- und Artistikschule...
DTSTART:20260702T193000
DTEND:20260702T193000
BEGIN:VALARM
ACTION:DISPLAY
DESCRIPTION:Staatliche Ballett- und Artistikschule
TRIGGER;VALUE=DATE-TIME:20260702T193000Z
END:VALARM
END:VEVENT
END:VCALENDAR