BEGIN:VCALENDAR
PRODID:-//eluceo/ical//2.0/EN
VERSION:2.0
CALSCALE:GREGORIAN
BEGIN:VEVENT
UID:74452c41e72c836d55335e8517814597
DTSTAMP:20260426T000608Z
SUMMARY:InTune (2026)
DESCRIPTION:In the 2026/2027 season\, we will once again be offering a regu
 lar dance class for people with multiple...
DTSTART:20270411T101600
DTEND:20270411T101600
LOCATION:Unter den Linden 7\, 10117 Berlin
BEGIN:VALARM
ACTION:DISPLAY
DESCRIPTION:InTune (2026)
TRIGGER;VALUE=DATE-TIME:20270411T101600Z
END:VALARM
END:VEVENT
END:VCALENDAR