BEGIN:VCALENDAR
PRODID:-//eluceo/ical//2.0/EN
VERSION:2.0
CALSCALE:GREGORIAN
BEGIN:VEVENT
UID:66e8bb3d184ae42e6e256e544cb58478
DTSTAMP:20260425T230902Z
SUMMARY:InTune (2026)
DESCRIPTION:In the 2026/2027 season\, we will once again be offering a regu
 lar dance class for people with multiple...
DTSTART:20261129T101500
DTEND:20261129T101500
LOCATION:Unter den Linden 7\, 10117 Berlin
BEGIN:VALARM
ACTION:DISPLAY
DESCRIPTION:InTune (2026)
TRIGGER;VALUE=DATE-TIME:20261129T101500Z
END:VALARM
END:VEVENT
END:VCALENDAR