BEGIN:VCALENDAR
PRODID:-//eluceo/ical//2.0/EN
VERSION:2.0
CALSCALE:GREGORIAN
BEGIN:VEVENT
UID:3c44761d92c53b58bc69cc10b4caf685
DTSTAMP:20260426T001905Z
SUMMARY:InTune (2026)
DESCRIPTION:In the 2026/2027 season\, we will once again be offering a regu
 lar dance class for people with multiple...
DTSTART:20260830T103000
DTEND:20260830T103000
LOCATION:Unter den Linden 7\, 10117 Berlin
BEGIN:VALARM
ACTION:DISPLAY
DESCRIPTION:InTune (2026)
TRIGGER;VALUE=DATE-TIME:20260830T103000Z
END:VALARM
END:VEVENT
END:VCALENDAR